BEGIN:VCALENDAR
VERSION:2.0
CALSCALE:GREGORIAN
PRODID:-//Diputació de Barcelona//DibaCMS//EN
BEGIN:VEVENT
UID:56653
DTSTAMP:20260421T070820
DTSTART:20230307T150000
DTEND:20230307T170000
SUMMARY:Taller de defensa personal
LOCATION:GYM MGV
Plaça de la Vila, 8, 1a Planta 
METHOD:PUBLISH
X-WR-CALNAME:info@llinarsdelvalles.cat
X-WR-TIMEZONE:Europe/Madrid
DESCRIPTION:Activitat emmarcada dintre de la programació de la Setmana de les Dones, que tindrà lloc a càrrec de GYM MGV (pl. Vila, 8, 1r).

URI:https://www.llinarsdelvalles.cat/actualitat/agenda/56653-taller-de-defensa-personal.html
CLASS:PUBLIC
END:VEVENT
END:VCALENDAR
