BEGIN:VCALENDAR
VERSION:2.0
CALSCALE:GREGORIAN
PRODID:-//Diputació de Barcelona//DibaCMS//EN
BEGIN:VEVENT
UID:56654
DTSTAMP:20260421T120352
DTSTART:20230305T100000
DTEND:20230305T200000
SUMMARY:Concentració de motos Custoom i concerts
LOCATION:A la plaça dels Països Catalans. 
METHOD:PUBLISH
X-WR-CALNAME:info@llinarsdelvalles.cat
X-WR-TIMEZONE:Europe/Madrid
DESCRIPTION:Organitzada per l'Associació La Batzegada Sorollosa.

URI:https://www.llinarsdelvalles.cat/actualitat/agenda/concentracio-de-motos-custoom-i-concerts.html
CLASS:PUBLIC
END:VEVENT
END:VCALENDAR
