BEGIN:VCALENDAR
VERSION:2.0
CALSCALE:GREGORIAN
PRODID:-//Diputació de Barcelona//DibaCMS//EN
BEGIN:VEVENT
UID:56655
DTSTAMP:20260421T160918
DTSTART:20230304T210000
DTEND:20230304T210000
SUMMARY:Concert de rock solidari
LOCATION:Av. Pau Casals, 22-24 (Àrea central) 08450 Llinars del Vallès
METHOD:PUBLISH
X-WR-CALNAME:info@llinarsdelvalles.cat
X-WR-TIMEZONE:Europe/Madrid
DESCRIPTION:The Serial Medlers.

URI:https://www.llinarsdelvalles.cat/actualitat/agenda/concert-de-rock-solidari.html
CLASS:PUBLIC
END:VEVENT
END:VCALENDAR
