BEGIN:VCALENDAR
VERSION:2.0
CALSCALE:GREGORIAN
PRODID:-//Diputació de Barcelona//DibaCMS//EN
BEGIN:VEVENT
UID:56656
DTSTAMP:20260421T131214
DTSTART:20230305T110000
DTEND:20230305T110000
SUMMARY:Caminada saludable
LOCATION:
METHOD:PUBLISH
X-WR-CALNAME:info@llinarsdelvalles.cat
X-WR-TIMEZONE:Europe/Madrid
DESCRIPTION:Activitat emmarcada dintre de la programació de la Setmana de les Dones. Sortida des de la plaça dels Països Catalans fins a Sant Sadurní de Collsabadell.

URI:https://www.llinarsdelvalles.cat/actualitat/agenda/caminada-saludable.html
CLASS:PUBLIC
END:VEVENT
END:VCALENDAR
