BEGIN:VCALENDAR
VERSION:2.0
CALSCALE:GREGORIAN
PRODID:-//Diputació de Barcelona//DibaCMS//EN
BEGIN:VEVENT
UID:56664
DTSTAMP:20260421T092408
DTSTART:20230308T100000
DTEND:20230308T190000
SUMMARY:8 de març - Dia Internacional de la Dona
LOCATION:
METHOD:PUBLISH
X-WR-CALNAME:info@llinarsdelvalles.cat
X-WR-TIMEZONE:Europe/Madrid
DESCRIPTION:10 h - Creació d'un mural al Casal Cívic.
12 h - Lectura del manifest institucional a la pl. de la Vila.
17 h - L'Hora del conte + taller Petita & Gran a la Biblioteca Can Casas.
19 h - Lectura del manifesta a càrrec de l'Associació Dones de Llinars, Gita de Bruixa i Akelarre Llinars, a la pl. del Països Catalans.

URI:https://www.llinarsdelvalles.cat/actualitat/agenda/8-de-marc-dia-internacional-de-la-dona.html
CLASS:PUBLIC
END:VEVENT
END:VCALENDAR
