BEGIN:VCALENDAR
VERSION:2.0
CALSCALE:GREGORIAN
PRODID:-//Diputació de Barcelona//DibaCMS//EN
BEGIN:VEVENT
UID:56665
DTSTAMP:20260421T043820
DTSTART:20230308T170000
DTEND:20230308T183000
SUMMARY:L'Hora del conte  +  Taller Petita&Gran
LOCATION:Av. Pau Casals, 26 08450 Llinars del Vallès
METHOD:PUBLISH
X-WR-CALNAME:info@llinarsdelvalles.cat
X-WR-TIMEZONE:Europe/Madrid
DESCRIPTION:Activitat emmarcada dintre de la programació de la Setmana de les Dones, que tindrà lloc a la Biblioteca Can Casas, a càrrec de Cristina Noguer.

URI:https://www.llinarsdelvalles.cat/actualitat/agenda/lhora-del-conte--taller-petitaandgran.html
CLASS:PUBLIC
END:VEVENT
END:VCALENDAR
