BEGIN:VCALENDAR
VERSION:2.0
CALSCALE:GREGORIAN
PRODID:-//Diputació de Barcelona//DibaCMS//EN
BEGIN:VEVENT
UID:56666
DTSTAMP:20260421T115244
DTSTART:20230308T000000
DTEND:20230328T000000
SUMMARY:Exposició Dibuixos i Relats
LOCATION:Av. Pau Casals, 26 08450 Llinars del Vallès
METHOD:PUBLISH
X-WR-CALNAME:info@llinarsdelvalles.cat
X-WR-TIMEZONE:Europe/Madrid
DESCRIPTION:Exposició de dibuixos dels alumnes del Batxillerat Artístic de l’Institut Baix Montseny (Sant Celoni) a partir dels microcontes escrits pel col·lectiu de Cardedeu Pasta de Full.

URI:https://www.llinarsdelvalles.cat/actualitat/agenda/exposicio-dibuixos-i-relats.html
CLASS:PUBLIC
END:VEVENT
END:VCALENDAR
