BEGIN:VCALENDAR
VERSION:2.0
CALSCALE:GREGORIAN
PRODID:-//Diputació de Barcelona//DibaCMS//EN
BEGIN:VEVENT
UID:56667
DTSTAMP:20260421T120136
DTSTART:20230309T190000
DTEND:20230309T190000
SUMMARY:Chhaupadi - La tradició nepalesa que exilia la dona durant la menstruació
LOCATION:
METHOD:PUBLISH
X-WR-CALNAME:info@llinarsdelvalles.cat
X-WR-TIMEZONE:Europe/Madrid
DESCRIPTION:Xerrada emmarcada dintre de la programació de la Setmana de les Dones, que tindrà lloc a la Biblioteca Can Casas, a càrrec de Clara García i Ortés. fundadora del projecte Rato Baltin.

URI:https://www.llinarsdelvalles.cat/actualitat/agenda/chhaupadi-la-tradicio-nepalesa-que-exilia-la-dona-durant-la-menstruacio.html
CLASS:PUBLIC
END:VEVENT
END:VCALENDAR
