BEGIN:VCALENDAR
VERSION:2.0
CALSCALE:GREGORIAN
PRODID:-//Diputació de Barcelona//DibaCMS//EN
BEGIN:VEVENT
UID:56670
DTSTAMP:20260421T054332
DTSTART:20230307T170000
DTEND:20230307T200000
SUMMARY:En clau de Do-na
LOCATION:Carrer Còrsega, 10 (Can Moix) 08450 Llinars del Vallès
METHOD:PUBLISH
X-WR-CALNAME:info@llinarsdelvalles.cat
X-WR-TIMEZONE:Europe/Madrid
DESCRIPTION:Activitat emmarcada dintre de la programació de la Setmana de les Dones, que tindrà lloc a l'Escola Municipal de Música.

URI:https://www.llinarsdelvalles.cat/actualitat/agenda/56670-en-clau-de-do-na.html
CLASS:PUBLIC
END:VEVENT
END:VCALENDAR
