BEGIN:VCALENDAR
VERSION:2.0
CALSCALE:GREGORIAN
PRODID:-//Diputació de Barcelona//DibaCMS//EN
BEGIN:VEVENT
UID:56672
DTSTAMP:20260421T104139
DTSTART:20230310T190000
DTEND:20230310T190000
SUMMARY:Presentació del llibre "Dones sàvies, herbolàries, llevadores, infermeres, metgesses...
LOCATION:Av. Pau Casals, 26 08450 Llinars del Vallès
METHOD:PUBLISH
X-WR-CALNAME:info@llinarsdelvalles.cat
X-WR-TIMEZONE:Europe/Madrid
DESCRIPTION:Activitat emmarcada dintre de la programació de la Setmana de les Dones, que tindrà lloc a la Biblioteca Can Casas, a càrrec de l'autora, Elisenda Albertí.

URI:https://www.llinarsdelvalles.cat/actualitat/agenda/presentacio-del-llibre-dones-savies-herbolaries-llevadores-infermeres-metgesses.html
CLASS:PUBLIC
END:VEVENT
END:VCALENDAR
