BEGIN:VCALENDAR
VERSION:2.0
CALSCALE:GREGORIAN
PRODID:-//Diputació de Barcelona//DibaCMS//EN
BEGIN:VEVENT
UID:56674
DTSTAMP:20260421T115942
DTSTART:20230311T120000
DTEND:20230311T120000
SUMMARY:Reconeixement a la dona de Llinars
LOCATION:
METHOD:PUBLISH
X-WR-CALNAME:info@llinarsdelvalles.cat
X-WR-TIMEZONE:Europe/Madrid
DESCRIPTION:Activitat emmarcada dintre de la programació de la Setmana de les Dones, que tindrà lloc a Can Lletres.

URI:https://www.llinarsdelvalles.cat/actualitat/agenda/reconeixement-a-la-dona-de-llinars.html
CLASS:PUBLIC
END:VEVENT
END:VCALENDAR
