BEGIN:VCALENDAR
VERSION:2.0
CALSCALE:GREGORIAN
PRODID:-//Diputació de Barcelona//DibaCMS//EN
BEGIN:VEVENT
UID:56679
DTSTAMP:20260421T104033
DTSTART:20230328T173000
DTEND:20230328T173000
SUMMARY:Story time "The very hungry caterpillar"
LOCATION:
METHOD:PUBLISH
X-WR-CALNAME:info@llinarsdelvalles.cat
X-WR-TIMEZONE:Europe/Madrid
DESCRIPTION:Hora del conte en anglès a càrrec de la Cambridge School.

URI:https://www.llinarsdelvalles.cat/actualitat/agenda/story-time-the-very-hungry-caterpillar.html
CLASS:PUBLIC
END:VEVENT
END:VCALENDAR
