BEGIN:VCALENDAR
VERSION:2.0
CALSCALE:GREGORIAN
PRODID:-//Diputació de Barcelona//DibaCMS//EN
BEGIN:VEVENT
UID:56680
DTSTAMP:20260421T070159
DTSTART:20230307T000000
DTEND:20230307T000000
SUMMARY:Taller adults - Llavors de tomàquets del Vallès Oriental
LOCATION:Av. Pau Casals, 26 08450 Llinars del Vallès
METHOD:PUBLISH
X-WR-CALNAME:info@llinarsdelvalles.cat
X-WR-TIMEZONE:Europe/Madrid
DESCRIPTION:A càrrec de Neus Solà.

URI:https://www.llinarsdelvalles.cat/actualitat/agenda/taller-adults-llavors-de-tomaquets-del-valles-oriental.html
CLASS:PUBLIC
END:VEVENT
END:VCALENDAR
