BEGIN:VCALENDAR
VERSION:2.0
CALSCALE:GREGORIAN
PRODID:-//Diputació de Barcelona//DibaCMS//EN
BEGIN:VEVENT
UID:56682
DTSTAMP:20260421T071533
DTSTART:20230319T120000
DTEND:20230319T120000
SUMMARY:Des de la guitarra, ho arreglem tot
LOCATION:08450 Llinars del Vallès
METHOD:PUBLISH
X-WR-CALNAME:info@llinarsdelvalles.cat
X-WR-TIMEZONE:Europe/Madrid
DESCRIPTION:Dintre del 25è cicle de concerts a Sanata, amb Marcos Lopetegi a la guitarra.

URI:https://www.llinarsdelvalles.cat/actualitat/agenda/des-de-la-guitarra-ho-arreglem-tot.html
CLASS:PUBLIC
END:VEVENT
END:VCALENDAR
