BEGIN:VCALENDAR
VERSION:2.0
CALSCALE:GREGORIAN
PRODID:-//Diputació de Barcelona//DibaCMS//EN
BEGIN:VEVENT
UID:56686
DTSTAMP:20260421T044807
DTSTART:20230507T190000
DTEND:20230507T190000
SUMMARY:Homenatge a Pau Casals
LOCATION:Ronda Sant Antoni, 19 08450 Llinars del Vallès
METHOD:PUBLISH
X-WR-CALNAME:info@llinarsdelvalles.cat
X-WR-TIMEZONE:Europe/Madrid
DESCRIPTION:Commemoració del cinquantenari de la seva mort al TA.

URI:https://www.llinarsdelvalles.cat/actualitat/agenda/homenatge-a-pau-casals.html
CLASS:PUBLIC
END:VEVENT
END:VCALENDAR
