BEGIN:VCALENDAR
VERSION:2.0
CALSCALE:GREGORIAN
PRODID:-//Diputació de Barcelona//DibaCMS//EN
BEGIN:VEVENT
UID:56687
DTSTAMP:20260421T092607
DTSTART:20230520T200000
DTEND:20230520T200000
SUMMARY:ABBA The New Experience
LOCATION:Ronda Sant Antoni, 19 08450 Llinars del Vallès
METHOD:PUBLISH
X-WR-CALNAME:info@llinarsdelvalles.cat
X-WR-TIMEZONE:Europe/Madrid
DESCRIPTION:Música al TA.

URI:https://www.llinarsdelvalles.cat/actualitat/agenda/abba-the-new-experience.html
CLASS:PUBLIC
END:VEVENT
END:VCALENDAR
