BEGIN:VCALENDAR
VERSION:2.0
CALSCALE:GREGORIAN
PRODID:-//Diputació de Barcelona//DibaCMS//EN
BEGIN:VEVENT
UID:56688
DTSTAMP:20260421T033656
DTSTART:20230310T170000
DTEND:20230310T170000
SUMMARY:Inauguració de l'exposició "Mira'm"
LOCATION:C/ Frederic Marés (antic CAP) 08450 Llinars del Vallès
METHOD:PUBLISH
X-WR-CALNAME:info@llinarsdelvalles.cat
X-WR-TIMEZONE:Europe/Madrid
DESCRIPTION:Exposició emmarcada dintre de la programació de la Setmana de les Dones, que tindrà lloc a l'Espai d'Art Llinars.

URI:https://www.llinarsdelvalles.cat/actualitat/agenda/inauguracio-de-lexposicio-miram.html
CLASS:PUBLIC
END:VEVENT
END:VCALENDAR
