BEGIN:VCALENDAR
VERSION:2.0
CALSCALE:GREGORIAN
PRODID:-//Diputació de Barcelona//DibaCMS//EN
BEGIN:VEVENT
UID:56690
DTSTAMP:20260421T070240
DTSTART:20230527T200000
DTEND:20230527T200000
SUMMARY:Amèrica
LOCATION:Ronda Sant Antoni, 19 08450 Llinars del Vallès
METHOD:PUBLISH
X-WR-CALNAME:info@llinarsdelvalles.cat
X-WR-TIMEZONE:Europe/Madrid
DESCRIPTION:Teatre al TA.

URI:https://www.llinarsdelvalles.cat/actualitat/agenda/america.html
CLASS:PUBLIC
END:VEVENT
END:VCALENDAR
