BEGIN:VCALENDAR
VERSION:2.0
CALSCALE:GREGORIAN
PRODID:-//Diputació de Barcelona//DibaCMS//EN
BEGIN:VEVENT
UID:56717
DTSTAMP:20260421T033945
DTSTART:20230511T000000
DTEND:20230512T000000
SUMMARY:Speed Dating Professional
LOCATION:08450 Llinars del Vallès
METHOD:PUBLISH
X-WR-CALNAME:info@llinarsdelvalles.cat
X-WR-TIMEZONE:Europe/Madrid
DESCRIPTION:Si estàs cercant feina i estàs interessat/da en participar, envia un correu a sdp@llinarsdelvalles.cat

URI:https://www.llinarsdelvalles.cat/actualitat/agenda/56717-speed-dating-professional.html
CLASS:PUBLIC
END:VEVENT
END:VCALENDAR
