BEGIN:VCALENDAR
VERSION:2.0
CALSCALE:GREGORIAN
PRODID:-//Diputació de Barcelona//DibaCMS//EN
BEGIN:VEVENT
UID:56731
DTSTAMP:20260421T033521
DTSTART:20230426T180000
DTEND:20230426T180000
SUMMARY:Caminades saludables i estiraments
LOCATION:
METHOD:PUBLISH
X-WR-CALNAME:info@llinarsdelvalles.cat
X-WR-TIMEZONE:Europe/Madrid
DESCRIPTION:Mes de l'Activitat Física a Llinars

URI:https://www.llinarsdelvalles.cat/actualitat/agenda/56731-caminades-saludables-i-estiraments.html
CLASS:PUBLIC
END:VEVENT
END:VCALENDAR
