BEGIN:VCALENDAR
VERSION:2.0
CALSCALE:GREGORIAN
PRODID:-//Diputació de Barcelona//DibaCMS//EN
BEGIN:VEVENT
UID:56733
DTSTAMP:20260421T092219
DTSTART:20230403T000000
DTEND:20230428T000000
SUMMARY:Exposició de pintura "Masies i esglésies: el patrimoni humà"
LOCATION:Av. Pau Casals, 26 08450 Llinars del Vallès
METHOD:PUBLISH
X-WR-CALNAME:info@llinarsdelvalles.cat
X-WR-TIMEZONE:Europe/Madrid
DESCRIPTION:A càrrec de Víctor Busquet i Pujós: Can Rossell, Can Jané, Sant Joan de Sanata i Sant Esteve del Coll entre d’altres.

URI:https://www.llinarsdelvalles.cat/actualitat/agenda/exposicio-de-pintura-masies-i-esglesies-el-patrimoni-huma.html
CLASS:PUBLIC
END:VEVENT
END:VCALENDAR
