BEGIN:VCALENDAR
VERSION:2.0
CALSCALE:GREGORIAN
PRODID:-//Diputació de Barcelona//DibaCMS//EN
BEGIN:VEVENT
UID:56734
DTSTAMP:20260421T054644
DTSTART:20230413T180000
DTEND:20230413T200000
SUMMARY:Taller adults: Escriptura expressiva: escriure per ser més feliç
LOCATION:Av. Pau Casals, 26 08450 Llinars del Vallès
METHOD:PUBLISH
X-WR-CALNAME:info@llinarsdelvalles.cat
X-WR-TIMEZONE:Europe/Madrid
DESCRIPTION:A càrrec d'Ingrid Van Gerven.
Viu el Sant Jordi a la Biblioteca Can Casas.

URI:https://www.llinarsdelvalles.cat/actualitat/agenda/taller-adults-escriptura-expressiva-escriure-per-ser-mes-felic.html
CLASS:PUBLIC
END:VEVENT
END:VCALENDAR
