BEGIN:VCALENDAR
VERSION:2.0
CALSCALE:GREGORIAN
PRODID:-//Diputació de Barcelona//DibaCMS//EN
BEGIN:VEVENT
UID:56735
DTSTAMP:20260421T092546
DTSTART:20230421T190000
DTEND:20230421T190000
SUMMARY:Presentació del llibre: Flores de una vida
LOCATION:Av. Pau Casals, 26 08450 Llinars del Vallès
METHOD:PUBLISH
X-WR-CALNAME:info@llinarsdelvalles.cat
X-WR-TIMEZONE:Europe/Madrid
DESCRIPTION:A càrrec de l'autor: Vicente Garcia Campo.
Viu el Sant Jordi a la Biblioteca Can Casas.

URI:https://www.llinarsdelvalles.cat/actualitat/agenda/presentacio-del-llibre-flores-de-una-vida.html
CLASS:PUBLIC
END:VEVENT
END:VCALENDAR
