BEGIN:VCALENDAR
VERSION:2.0
CALSCALE:GREGORIAN
PRODID:-//Diputació de Barcelona//DibaCMS//EN
BEGIN:VEVENT
UID:56736
DTSTAMP:20260421T033436
DTSTART:20230425T173000
DTEND:20230425T173000
SUMMARY:Hora del conte en anglès: "Rabbit's Nap"
LOCATION:Av. Pau Casals, 26 08450 Llinars del Vallès
METHOD:PUBLISH
X-WR-CALNAME:info@llinarsdelvalles.cat
X-WR-TIMEZONE:Europe/Madrid
DESCRIPTION:A càrrec de Cambridge School.

URI:https://www.llinarsdelvalles.cat/actualitat/agenda/hora-del-conte-en-angles-rabbits-nap.html
CLASS:PUBLIC
END:VEVENT
END:VCALENDAR
