BEGIN:VCALENDAR
VERSION:2.0
CALSCALE:GREGORIAN
PRODID:-//Diputació de Barcelona//DibaCMS//EN
BEGIN:VEVENT
UID:56738
DTSTAMP:20260421T045308
DTSTART:20230428T183000
DTEND:20230428T183000
SUMMARY:Trobada d'autora: Club de lectura feminista
LOCATION:Av. Pau Casals, 26 08450 Llinars del Vallès
METHOD:PUBLISH
X-WR-CALNAME:info@llinarsdelvalles.cat
X-WR-TIMEZONE:Europe/Madrid
DESCRIPTION:Es comentarà l'obra "La Loca" de Cristina Fallarás.
Viu el Sant Jordi a la Biblioteca Can Casas.

URI:https://www.llinarsdelvalles.cat/actualitat/agenda/trobada-dautora-club-de-lectura-feminista.html
CLASS:PUBLIC
END:VEVENT
END:VCALENDAR
