BEGIN:VCALENDAR
VERSION:2.0
CALSCALE:GREGORIAN
PRODID:-//Diputació de Barcelona//DibaCMS//EN
BEGIN:VEVENT
UID:56739
DTSTAMP:20260421T132020
DTSTART:20230415T103000
DTEND:20230415T103000
SUMMARY:Trobada d'autora: Club de lectura de novel·la
LOCATION:Av. Pau Casals, 26 08450 Llinars del Vallès
METHOD:PUBLISH
X-WR-CALNAME:info@llinarsdelvalles.cat
X-WR-TIMEZONE:Europe/Madrid
DESCRIPTION:Es comentarà l'obra "Mamut" d'Eva Baltasar.
Viu el Sant Jordi a la Biblioteca Can Casas.

URI:https://www.llinarsdelvalles.cat/actualitat/agenda/trobada-dautora-club-de-lectura-de-novella.html
CLASS:PUBLIC
END:VEVENT
END:VCALENDAR
