BEGIN:VCALENDAR
VERSION:2.0
CALSCALE:GREGORIAN
PRODID:-//Diputació de Barcelona//DibaCMS//EN
BEGIN:VEVENT
UID:56742
DTSTAMP:20260421T160934
DTSTART:20230401T110000
DTEND:20230401T110000
SUMMARY:Xerrada famílies: Les claus del son infantil
LOCATION:Av. Pau Casals, 26 08450 Llinars del Vallès
METHOD:PUBLISH
X-WR-CALNAME:info@llinarsdelvalles.cat
X-WR-TIMEZONE:Europe/Madrid
DESCRIPTION:A càrrec de Cristina Oliva, periodista, assessora de criança i doula.

URI:https://www.llinarsdelvalles.cat/actualitat/agenda/xerrada-families-les-claus-del-son-infantil.html
CLASS:PUBLIC
END:VEVENT
END:VCALENDAR
