BEGIN:VCALENDAR
VERSION:2.0
CALSCALE:GREGORIAN
PRODID:-//Diputació de Barcelona//DibaCMS//EN
BEGIN:VEVENT
UID:56743
DTSTAMP:20260421T054316
DTSTART:20230415T110000
DTEND:20230415T110000
SUMMARY:Hora menuda: Farcell de contes
LOCATION:Av. Pau Casals, 26 08450 Llinars del Vallès
METHOD:PUBLISH
X-WR-CALNAME:info@llinarsdelvalles.cat
X-WR-TIMEZONE:Europe/Madrid
DESCRIPTION:A càrrec de Fes-t'ho com vulguis.

URI:https://www.llinarsdelvalles.cat/actualitat/agenda/hora-menuda-farcell-de-contes.html
CLASS:PUBLIC
END:VEVENT
END:VCALENDAR
