BEGIN:VCALENDAR
VERSION:2.0
CALSCALE:GREGORIAN
PRODID:-//Diputació de Barcelona//DibaCMS//EN
BEGIN:VEVENT
UID:56753
DTSTAMP:20260421T044323
DTSTART:20230615T100000
DTEND:20230615T100000
SUMMARY:Taller de cuina d'aprofitament
LOCATION:C/ Josep Argila, 39 08450 Llinars del Vallés
METHOD:PUBLISH
X-WR-CALNAME:info@llinarsdelvalles.cat
X-WR-TIMEZONE:Europe/Madrid
DESCRIPTION:A càrrec de D'Ara Corboud.

URI:https://www.llinarsdelvalles.cat/actualitat/agenda/56753-taller-de-cuina-daprofitament.html
CLASS:PUBLIC
END:VEVENT
END:VCALENDAR
