BEGIN:VCALENDAR
VERSION:2.0
CALSCALE:GREGORIAN
PRODID:-//Diputació de Barcelona//DibaCMS//EN
BEGIN:VEVENT
UID:56757
DTSTAMP:20260421T091807
DTSTART:20230408T180000
DTEND:20230408T180000
SUMMARY:Dues tardes i dos matins d'abril
LOCATION:Espai Ruscalleda Art
C/ Major, 32 
METHOD:PUBLISH
X-WR-CALNAME:info@llinarsdelvalles.cat
X-WR-TIMEZONE:Europe/Madrid
DESCRIPTION:Presentació del llibre d'autor "Bellavista" a càrrec d'Albert Allué Orti. Cristina Ballesteros.

URI:https://www.llinarsdelvalles.cat/actualitat/agenda/dues-tardes-i-dos-matins-dabril.html
CLASS:PUBLIC
END:VEVENT
END:VCALENDAR
