BEGIN:VCALENDAR
VERSION:2.0
CALSCALE:GREGORIAN
PRODID:-//Diputació de Barcelona//DibaCMS//EN
BEGIN:VEVENT
UID:56761
DTSTAMP:20260421T065252
DTSTART:20230415T120000
DTEND:20230415T180000
SUMMARY:Dues tardes i dos matins d'abril
LOCATION:Espai Ruscalleda Art
C/ Major, 32
Llinars del Vallès 08460
Barcelona 
METHOD:PUBLISH
X-WR-CALNAME:info@llinarsdelvalles.cat
X-WR-TIMEZONE:Europe/Madrid
DESCRIPTION:12 h - Presentació del llibre Silvas de Silvia Gubern.
18 h - Recital literari.

URI:https://www.llinarsdelvalles.cat/actualitat/agenda/56761-dues-tardes-i-dos-matins-dabril.html
CLASS:PUBLIC
END:VEVENT
END:VCALENDAR
