BEGIN:VCALENDAR
VERSION:2.0
CALSCALE:GREGORIAN
PRODID:-//Diputació de Barcelona//DibaCMS//EN
BEGIN:VEVENT
UID:56766
DTSTAMP:20260421T065801
DTSTART:20230430T170000
DTEND:20230430T170000
SUMMARY:Ball de Primavera
LOCATION:C/ Ramon i Cajal - (cantonada Av. Granollers) 08450 Llinars del Vallés
METHOD:PUBLISH
X-WR-CALNAME:info@llinarsdelvalles.cat
X-WR-TIMEZONE:Europe/Madrid
DESCRIPTION:Amb l'orquestra Xarop de Nit.

URI:https://www.llinarsdelvalles.cat/actualitat/agenda/ball-de-primavera.html
CLASS:PUBLIC
END:VEVENT
END:VCALENDAR
