BEGIN:VCALENDAR
VERSION:2.0
CALSCALE:GREGORIAN
PRODID:-//Diputació de Barcelona//DibaCMS//EN
BEGIN:VEVENT
UID:56768
DTSTAMP:20260421T130533
DTSTART:20230416T000000
DTEND:20230521T000000
SUMMARY:Les fronteres de l'Art
LOCATION:C/ Frederic Marés (antic CAP) 08450 Llinars del Vallès
METHOD:PUBLISH
X-WR-CALNAME:info@llinarsdelvalles.cat
X-WR-TIMEZONE:Europe/Madrid
DESCRIPTION:Nova exposició a l'Espai d'Art Llinars.
Inauguració el 16 d'abril a les 12 h

URI:https://www.llinarsdelvalles.cat/actualitat/agenda/les-fronteres-de-lart.html
CLASS:PUBLIC
END:VEVENT
END:VCALENDAR
