BEGIN:VCALENDAR
VERSION:2.0
CALSCALE:GREGORIAN
PRODID:-//Diputació de Barcelona//DibaCMS//EN
BEGIN:VEVENT
UID:56769
DTSTAMP:20260421T070250
DTSTART:20230416T100000
DTEND:20230416T100000
SUMMARY:Passejada: El camí Ral de Llinars a Vilamajor
LOCATION:Sortida a les 10 h des de la plaça de la Vila. 
METHOD:PUBLISH
X-WR-CALNAME:info@llinarsdelvalles.cat
X-WR-TIMEZONE:Europe/Madrid
DESCRIPTION:Cicle de passejades guiades del Parc Montnegre Corredor.

URI:https://www.llinarsdelvalles.cat/actualitat/agenda/passejada-el-cami-ral-de-llinars-a-vilamajor.html
CLASS:PUBLIC
END:VEVENT
END:VCALENDAR
