BEGIN:VCALENDAR
VERSION:2.0
CALSCALE:GREGORIAN
PRODID:-//Diputació de Barcelona//DibaCMS//EN
BEGIN:VEVENT
UID:56775
DTSTAMP:20260421T092643
DTSTART:20230422T180000
DTEND:20230422T180000
SUMMARY:Concert de primavera de l'EMM
LOCATION:
METHOD:PUBLISH
X-WR-CALNAME:info@llinarsdelvalles.cat
X-WR-TIMEZONE:Europe/Madrid
DESCRIPTION:"La llegenda de la rosa i el drac" d'Arnau Tordera
"Història de Catalunya" d'Antoni Ros -Marbà"

URI:https://www.llinarsdelvalles.cat/actualitat/agenda/concert-de-primavera-de-lemm.html
CLASS:PUBLIC
END:VEVENT
END:VCALENDAR
