BEGIN:VCALENDAR
VERSION:2.0
CALSCALE:GREGORIAN
PRODID:-//Diputació de Barcelona//DibaCMS//EN
BEGIN:VEVENT
UID:56776
DTSTAMP:20260421T070016
DTSTART:20230506T090000
DTEND:20230506T090000
SUMMARY:Visita guiada al centre d'interpretació de la bruixeria de Sant Feliu Sasserra
LOCATION:Sortida a les 9 h des de la plaça dels Països Catalans. 
METHOD:PUBLISH
X-WR-CALNAME:info@llinarsdelvalles.cat
X-WR-TIMEZONE:Europe/Madrid
DESCRIPTION:Visita per a dones de Llinars. Informació i inscripcions al tf. 618 13 86 35.

URI:https://www.llinarsdelvalles.cat/actualitat/agenda/visita-guiada-centre-interpretacio-bruixeria.html
CLASS:PUBLIC
END:VEVENT
END:VCALENDAR
