BEGIN:VCALENDAR
VERSION:2.0
CALSCALE:GREGORIAN
PRODID:-//Diputació de Barcelona//DibaCMS//EN
BEGIN:VEVENT
UID:56778
DTSTAMP:20260421T070318
DTSTART:20230429T180000
DTEND:20230429T180000
SUMMARY:aTAnsa't - Paisatge Sensible d'Helena Pellisé
LOCATION:Ronda Sant Antoni, 19 08450 Llinars del Vallès
METHOD:PUBLISH
X-WR-CALNAME:info@llinarsdelvalles.cat
X-WR-TIMEZONE:Europe/Madrid
DESCRIPTION:Dansa contemporànea.

URI:https://www.llinarsdelvalles.cat/actualitat/agenda/atansat-paisatge-sensible-dhelena-pellise.html
CLASS:PUBLIC
END:VEVENT
END:VCALENDAR
