BEGIN:VCALENDAR
VERSION:2.0
CALSCALE:GREGORIAN
PRODID:-//Diputació de Barcelona//DibaCMS//EN
BEGIN:VEVENT
UID:56779
DTSTAMP:20260421T055701
DTSTART:20230430T120000
DTEND:20230430T120000
SUMMARY:aTAnsa't - Filar d'Antonella d'Ascenzi
LOCATION:Ronda Sant Antoni, 19 08450 Llinars del Vallès
METHOD:PUBLISH
X-WR-CALNAME:info@llinarsdelvalles.cat
X-WR-TIMEZONE:Europe/Madrid
DESCRIPTION:Espectacle familiar de dansa i titelles.

URI:https://www.llinarsdelvalles.cat/actualitat/agenda/atansat-filar-dantonella-dascenzi.html
CLASS:PUBLIC
END:VEVENT
END:VCALENDAR
