BEGIN:VCALENDAR
VERSION:2.0
CALSCALE:GREGORIAN
PRODID:-//Diputació de Barcelona//DibaCMS//EN
BEGIN:VEVENT
UID:56780
DTSTAMP:20260421T104755
DTSTART:20230430T180000
DTEND:20230430T180000
SUMMARY:aTAnsa't - Panorama de Raquel Gualtero
LOCATION:Ronda Sant Antoni, 19 08450 Llinars del Vallès
METHOD:PUBLISH
X-WR-CALNAME:info@llinarsdelvalles.cat
X-WR-TIMEZONE:Europe/Madrid
DESCRIPTION:Dansa contemporània.

URI:https://www.llinarsdelvalles.cat/actualitat/agenda/atansat-panorama-de-raquel-gualtero.html
CLASS:PUBLIC
END:VEVENT
END:VCALENDAR
