BEGIN:VCALENDAR
VERSION:2.0
CALSCALE:GREGORIAN
PRODID:-//Diputació de Barcelona//DibaCMS//EN
BEGIN:VEVENT
UID:56781
DTSTAMP:20260421T054728
DTSTART:20230501T100000
DTEND:20230501T100000
SUMMARY:aTAnsa't - Taller de Dansa la Vida amb Carmen Roldán
LOCATION:Ronda Sant Antoni, 19 08450 Llinars del Vallès
METHOD:PUBLISH
X-WR-CALNAME:info@llinarsdelvalles.cat
X-WR-TIMEZONE:Europe/Madrid
DESCRIPTION:
URI:https://www.llinarsdelvalles.cat/actualitat/agenda/atansat-taller-de-dansa-la-vida-amb-carmen-roldan.html
CLASS:PUBLIC
END:VEVENT
END:VCALENDAR
