BEGIN:VCALENDAR
VERSION:2.0
CALSCALE:GREGORIAN
PRODID:-//Diputació de Barcelona//DibaCMS//EN
BEGIN:VEVENT
UID:56783
DTSTAMP:20260421T043808
DTSTART:20230501T190000
DTEND:20230501T190000
SUMMARY:aTAnsa't - Tradere amb Laia Santanach
LOCATION:Ronda Sant Antoni, 19 08450 Llinars del Vallès
METHOD:PUBLISH
X-WR-CALNAME:info@llinarsdelvalles.cat
X-WR-TIMEZONE:Europe/Madrid
DESCRIPTION:Dansa contemporània.

URI:https://www.llinarsdelvalles.cat/actualitat/agenda/atansat-tradere-amb-laia-santanach.html
CLASS:PUBLIC
END:VEVENT
END:VCALENDAR
