BEGIN:VCALENDAR
VERSION:2.0
CALSCALE:GREGORIAN
PRODID:-//Diputació de Barcelona//DibaCMS//EN
BEGIN:VEVENT
UID:56784
DTSTAMP:20260421T092235
DTSTART:20230502T000000
DTEND:20230523T000000
SUMMARY:Bon tracte a la Gent Gran
LOCATION:C/ Ramon i Cajal - (cantonada Av. Granollers) 08450 Llinars del Vallés
METHOD:PUBLISH
X-WR-CALNAME:info@llinarsdelvalles.cat
X-WR-TIMEZONE:Europe/Madrid
DESCRIPTION:Els dies 2, 9, 16 i 23 de maig de 2023.
Dimarts de 17 a 18.30 h

URI:https://www.llinarsdelvalles.cat/actualitat/agenda/bon-tracte-a-la-gent-gran.html
CLASS:PUBLIC
END:VEVENT
END:VCALENDAR
