BEGIN:VCALENDAR
VERSION:2.0
CALSCALE:GREGORIAN
PRODID:-//Diputació de Barcelona//DibaCMS//EN
BEGIN:VEVENT
UID:56785
DTSTAMP:20260421T044612
DTSTART:20230601T000000
DTEND:20230615T000000
SUMMARY:Despertar amb un somriure
LOCATION:C/ Ramon i Cajal - (cantonada Av. Granollers) 08450 Llinars del Vallés
METHOD:PUBLISH
X-WR-CALNAME:info@llinarsdelvalles.cat
X-WR-TIMEZONE:Europe/Madrid
DESCRIPTION:Els dies 1, 8 i 15 de juny.
Dijous de 10 a 12 h.

URI:https://www.llinarsdelvalles.cat/actualitat/agenda/despertar-amb-un-somriure.html
CLASS:PUBLIC
END:VEVENT
END:VCALENDAR
