BEGIN:VCALENDAR
VERSION:2.0
CALSCALE:GREGORIAN
PRODID:-//Diputació de Barcelona//DibaCMS//EN
BEGIN:VEVENT
UID:56787
DTSTAMP:20260421T044707
DTSTART:20230430T120000
DTEND:20230430T120000
SUMMARY:Celebració del 25è aniversari del cicle de concerts a Sanata
LOCATION:08450 Llinars del Vallès
METHOD:PUBLISH
X-WR-CALNAME:info@llinarsdelvalles.cat
X-WR-TIMEZONE:Europe/Madrid
DESCRIPTION:Concert extraordinari amb alguns músics que han format part de la història del Cicle, i projecció d’un documental explicant aquests 25 anys de música.

URI:https://www.llinarsdelvalles.cat/actualitat/agenda/celebracio-del-25e-aniversari-del-cicle-de-concerts-a-sanata.html
CLASS:PUBLIC
END:VEVENT
END:VCALENDAR
