BEGIN:VCALENDAR
VERSION:2.0
CALSCALE:GREGORIAN
PRODID:-//Diputació de Barcelona//DibaCMS//EN
BEGIN:VEVENT
UID:56799
DTSTAMP:20260421T022824
DTSTART:20230507T080000
DTEND:20230507T200000
SUMMARY:II Jornada esportiva Salvador sanromà
LOCATION:
METHOD:PUBLISH
X-WR-CALNAME:info@llinarsdelvalles.cat
X-WR-TIMEZONE:Europe/Madrid
DESCRIPTION:Durant tot el dia.

URI:https://www.llinarsdelvalles.cat/actualitat/agenda/ii-jornada-esportiva-salvador-sanroma.html
CLASS:PUBLIC
END:VEVENT
END:VCALENDAR
