BEGIN:VCALENDAR
VERSION:2.0
CALSCALE:GREGORIAN
PRODID:-//Diputació de Barcelona//DibaCMS//EN
BEGIN:VEVENT
UID:56800
DTSTAMP:20260421T044230
DTSTART:20230507T090000
DTEND:20230507T090000
SUMMARY:5a trobada de cotxes clàssics
LOCATION:
METHOD:PUBLISH
X-WR-CALNAME:info@llinarsdelvalles.cat
X-WR-TIMEZONE:Europe/Madrid
DESCRIPTION:Inscripcions de 8 a 9 h al c/ Frederic Marés.

URI:https://www.llinarsdelvalles.cat/actualitat/agenda/5a-trobada-de-cotxes-classics.html
CLASS:PUBLIC
END:VEVENT
END:VCALENDAR
