BEGIN:VCALENDAR
VERSION:2.0
CALSCALE:GREGORIAN
PRODID:-//Diputació de Barcelona//DibaCMS//EN
BEGIN:VEVENT
UID:56801
DTSTAMP:20260421T092255
DTSTART:20230505T170000
DTEND:20230505T170000
SUMMARY:Hora del conte + taller "La família de les germanes Algaba"
LOCATION:Av. Pau Casals, 26 08450 Llinars del Vallès
METHOD:PUBLISH
X-WR-CALNAME:info@llinarsdelvalles.cat
X-WR-TIMEZONE:Europe/Madrid
DESCRIPTION:A càrrec de Clara Algaba.

URI:https://www.llinarsdelvalles.cat/actualitat/agenda/hora-del-conte--taller-la-familia-de-les-germanes-algaba.html
CLASS:PUBLIC
END:VEVENT
END:VCALENDAR
