BEGIN:VCALENDAR
VERSION:2.0
CALSCALE:GREGORIAN
PRODID:-//Diputació de Barcelona//DibaCMS//EN
BEGIN:VEVENT
UID:56803
DTSTAMP:20260421T050509
DTSTART:20230516T183000
DTEND:20230516T183000
SUMMARY:Jornades educatives "De l'escola a la família i de la família a tu"
LOCATION:C/ Josep Argila, 39 08450 Llinars del Vallés
METHOD:PUBLISH
X-WR-CALNAME:info@llinarsdelvalles.cat
X-WR-TIMEZONE:Europe/Madrid
DESCRIPTION:La temàtica triada és: “Com posar límits, i  quines pautes educatives podem aplicar per infants i joves”. És a dir, com podem treballar el NO.

URI:https://www.llinarsdelvalles.cat/actualitat/agenda/jornades-educatives-de-lescola-a-la-familia-i-de-la-familia-a-tu.html
CLASS:PUBLIC
END:VEVENT
END:VCALENDAR
