BEGIN:VCALENDAR
VERSION:2.0
CALSCALE:GREGORIAN
PRODID:-//Diputació de Barcelona//DibaCMS//EN
BEGIN:VEVENT
UID:56804
DTSTAMP:20260421T045936
DTSTART:20230520T203000
DTEND:20230520T203000
SUMMARY:Nit fosca, nit d'estels
LOCATION:
METHOD:PUBLISH
X-WR-CALNAME:info@llinarsdelvalles.cat
X-WR-TIMEZONE:Europe/Madrid
DESCRIPTION:Dintre del cicle de les Passejades guiades del Parc del Montnegre i del Corredor.

URI:https://www.llinarsdelvalles.cat/actualitat/agenda/nit-fosca-nit-destels.html
CLASS:PUBLIC
END:VEVENT
END:VCALENDAR
