BEGIN:VCALENDAR
VERSION:2.0
CALSCALE:GREGORIAN
PRODID:-//Diputació de Barcelona//DibaCMS//EN
BEGIN:VEVENT
UID:56805
DTSTAMP:20260421T044635
DTSTART:20230513T110000
DTEND:20230513T110000
SUMMARY:Hora menuda "El viatge de la Tortuga Ballaruga"
LOCATION:Av. Pau Casals, 26 08450 Llinars del Vallès
METHOD:PUBLISH
X-WR-CALNAME:info@llinarsdelvalles.cat
X-WR-TIMEZONE:Europe/Madrid
DESCRIPTION:A càrrec de Miniritmes.

URI:https://www.llinarsdelvalles.cat/actualitat/agenda/hora-menuda-el-viatge-de-la-tortuga-ballaruga.html
CLASS:PUBLIC
END:VEVENT
END:VCALENDAR
